BEGIN:VCALENDAR
VERSION:2.0
PRODID:-//wp-events-plugin.com//6.6.3//EN
BEGIN:VEVENT
UID:861@variancefm.com
DTSTART;VALUE=DATE:20170204
DTEND;VALUE=DATE:20170206
DTSTAMP:20170104T201549Z
URL:https://variancefm.com/event/3eme-salon-du-bien-etre/
SUMMARY:3ème salon du bien-être
DESCRIPTION:3ème salon du bien-être\, du bio et de la forme qui aura lieu
  les 4 et 5 février 2017 à l'espace culturel 'Fernand Raynaud" de St-Ger
 main-des-Fossés.\nForme\, santé\, Beauté\, relaxation\, ...\nEntrée 2 
 €\nGratuit pour les moins de 16 ans.\nRens : 04.70.59.60.45\n
ATTACH;FMTTYPE=image/jpeg:https://variancefm.com/v2/wp-content/uploads/201
 7/01/84d06207ac5f51b05ea64808a7dbf8c1.jpg
LOCATION:Espace Fernand Raynaud \, Espace Fernand Raynaud \, St-Germain-des
 -Fossés\, France
X-APPLE-STRUCTURED-LOCATION;VALUE=URI;X-ADDRESS=Espace Fernand Raynaud \, S
 t-Germain-des-Fossés\, France;X-APPLE-RADIUS=100;X-TITLE=Espace Fernand R
 aynaud :geo:0,0
END:VEVENT
END:VCALENDAR