BEGIN:VCALENDAR
VERSION:2.0
PRODID:-//wp-events-plugin.com//6.6.3//EN
BEGIN:VEVENT
UID:428@variancefm.com
DTSTART;VALUE=DATE:20150926
DTEND;VALUE=DATE:20150928
DTSTAMP:20150922T054959Z
URL:https://variancefm.com/event/65eme-exposition-philatelique-regionale-a
 -cusset/
SUMMARY:65ème Exposition Philatélique régionale à Cusset
DESCRIPTION:\n\n65ème Championnat Philatélique Régional du Groupement Ph
 ilatélique du Massif Central\n\n40ème Anniversaire de l’Amicale Philat
 élique de Cusset et de la Montagne Bourbonnaise &amp\; 30ème Aniversaire
  Cercle des Amis de Marianne\n\nC’est à Cusset (03) Espace CHAMBON Same
 di 26 et dimanche 27 Septembre 2015\n\nDe 9 heures à 18 heures (dimanche 
 fermeture de l’exposition à 17 heures)\n\nManifestation organisée avec
  :\n\n	le patronage de la Fédération Française des Associations Philat
 éliques (F.F.A.P.)\n	le soutien de la Commune de CUSSET\, de la Communaut
 é d’Agglomération VICHY VAL d’ALLIER\, du Conseil Général d’Alli
 er\n	En partenariat avec La Poste\n\nDeux fils conducteurs : Les philatél
 istes de la Région Massif Central (départements : Allier\, Cantal\, Haut
 e-Loire Puy de Dôme\, Corrèze\, Creuse et Haute-Vienne) se confronteront
  pour ce 65ème Championnat Régional.\n\nLe jury sera présidé par Monsi
 eur Bernard JIMENEZ Juré International et Directeur pour l’Europe de la
  Fédération Internationale de Philatélie (F.I.P.) Monsieur Claude DESAR
 MENIEN Président de la Fédération Française des Associations Philatél
 iques (F.F.A.P.) et Président du Groupement Philatélique du Massif Centr
 al (G.P.M.C.) animera aux débats du 65ème Congrès du Groupement Philat
 élique du Massif Central qui se tiendra le dimanche 27 septembre 2015.\n\
 nUne exposition unique dans la région sera présentée au public. « Revi
 vez la France\, la collection réinventée ».\n\nA travers l’univers fa
 buleux et inépuisable de toutes les collections\, retrouvez saveurs et se
 nteur\, ambiances et rythmes\, joyaux et couleurs qui ont forgé l’âme 
 des provinces.\n\nCent vingt-cinq vitrines pour vous faire parcourir notre
  beau pays.\n\nL’exposition mettra en avant notre belle région.\n\nLes 
 animations :\n\n	 Bureau Temporaire de La Poste pendant les deux journée
 s avec mise en service d’une oblitération fêtant ces évènements\n	 
 Emission de deux timbres-poste : MonTimbreaMoi représentants : le Blason 
 de Cusset\, la Place de l’Eglise\n	 Présence de négociants experts en
  timbre-poste\, lettres anciennes\, matériels etc…\n	 Entrée libre et
  gratuite\n\nContacts : Claude DESARMENIEN Président Jean-Jacques RABINEA
 U Vice-président\n\n06 07 97 22 21\n\n06 75 02 05 38\n\n04 70 98 93 75\n\
 njjrabineau@aol.com\n\ndesarmenien.c@gmail.com\n\n&nbsp\;\n\n
ATTACH;FMTTYPE=image/jpeg:https://variancefm.com/v2/wp-content/uploads/201
 5/09/large_381266_img_16854.png
LOCATION:Espace Chambon cusset\, espace chambon\, cusset\, allier\, 03300\,
  Auvergne\, France
GEO:46.13196199999999;3.4565000000000055
X-APPLE-STRUCTURED-LOCATION;VALUE=URI;X-ADDRESS=espace chambon\, cusset\, a
 llier\, 03300\, Auvergne\, France;X-APPLE-RADIUS=100;X-TITLE=Espace Chambo
 n cusset:geo:46.13196199999999,3.4565000000000055
END:VEVENT
END:VCALENDAR