BEGIN:VCALENDAR
VERSION:2.0
PRODID:-//wp-events-plugin.com//6.6.3//EN
BEGIN:VEVENT
UID:1221@variancefm.com
DTSTART:20200214T113000Z
DTEND:20200214T113000Z
DTSTAMP:20200205T133904Z
URL:https://variancefm.com/event/concours-de-belote-54/
SUMMARY:Concours de belote
DESCRIPTION:1° prix : 2 oies\n2° prix : 2 épaules\n3° prix : 2 canes\n1
  lot à chaque participant
CATEGORIES:Belote
LOCATION:Salle Champ Feuillet\, Rue Champ Feuillet\, ST POURCAIN SUR SIOULE
 \, 03500\, France
X-APPLE-STRUCTURED-LOCATION;VALUE=URI;X-ADDRESS=Rue Champ Feuillet\, ST POU
 RCAIN SUR SIOULE\, 03500\, France;X-APPLE-RADIUS=100;X-TITLE=Salle Champ F
 euillet:geo:0,0
END:VEVENT
END:VCALENDAR