BEGIN:VCALENDAR
VERSION:2.0
PRODID:-//wp-events-plugin.com//6.6.3//EN
BEGIN:VEVENT
UID:35@variancefm.com
DTSTART:20141201T220000Z
DTEND:20141201T220000Z
DTSTAMP:20141114T200807Z
URL:https://variancefm.com/event/concours-de-belote-a-saint-sylvestre-prag
 oulin/
SUMMARY:CONCOURS DE BELOTE à SAINT SYLVESTRE PRAGOULIN
DESCRIPTION:organisé par le club des retraités\n\n1er prix : un agneau\n2
 e prix : deux jambons secs\n3e prix : deux jambons frais\n4e et 5 e prix :
  deux dindes\n\net de nombreux lots de viande\n\nun lot à chaque particip
 ant\n\nbuffet - buvette
ATTACH;FMTTYPE=image/jpeg:https://variancefm.com/v2/wp-content/uploads/201
 4/10/belotte.jpg
CATEGORIES:Belote
LOCATION:SALLE POLYVALENTE\, SALLE POLYVALENTE\, SAINT SYLVESTRE PRAGOULIN\
 , 63310\, France
GEO:46.05399999999999;3.3940000000000055
X-APPLE-STRUCTURED-LOCATION;VALUE=URI;X-ADDRESS=SALLE POLYVALENTE\, SAINT S
 YLVESTRE PRAGOULIN\, 63310\, France;X-APPLE-RADIUS=100;X-TITLE=SALLE POLYV
 ALENTE:geo:46.05399999999999,3.3940000000000055
END:VEVENT
END:VCALENDAR