BEGIN:VCALENDAR
VERSION:2.0
PRODID:-//wp-events-plugin.com//6.6.3//EN
BEGIN:VEVENT
UID:145@variancefm.com
DTSTART:20150314T120000Z
DTEND:20150314T160000Z
DTSTAMP:20150303T213009Z
URL:https://variancefm.com/event/concours-de-belote-vendat/
SUMMARY:Concours de Belote Vendat
DESCRIPTION:Concours de belote le samedi 14 mars à 14h à la salle Auroyer
   à Vendat.\n\nA gagner 2 jambons frais\, épaules\, canettes\, pintades
 \, poulet\, rôti de porc\,...\n\nUn lot à chaque participant.\n\n&nbsp\;
ATTACH;FMTTYPE=image/jpeg:https://variancefm.com/v2/wp-content/uploads/201
 4/10/belotte.jpg
CATEGORIES:Belote
LOCATION:salle Auroyer  à Vendat\, salle Auroyer\, Vendat\, allier\, 03110
 \, Auvergne\, France
GEO:46.159778;3.347005999999965
X-APPLE-STRUCTURED-LOCATION;VALUE=URI;X-ADDRESS=salle Auroyer\, Vendat\, al
 lier\, 03110\, Auvergne\, France;X-APPLE-RADIUS=100;X-TITLE=salle Auroyer 
  à Vendat:geo:46.159778,3.347005999999965
END:VEVENT
END:VCALENDAR