BEGIN:VCALENDAR
VERSION:2.0
PRODID:-//wp-events-plugin.com//6.6.3//EN
BEGIN:VEVENT
UID:729@variancefm.com
DTSTART:20160604T183000Z
DTEND:20160605T170000Z
DTSTAMP:20160502T204907Z
URL:https://variancefm.com/event/fete-de-fin-dannee-associative/
SUMMARY:Fête de fin d'année associative
DESCRIPTION:Pour fêter ses 5 ans d’existence l'association Bouger à Bul
 hon vous invite à 2 jours de fête.\nLes 4 et 5  juin 2016.\nAU PROGRAMME
  :\nSamedi 4 juin 2016  \n20h30 à la salle des fêtes de BULHON(63)\nCie 
 la soupe aux étoiles avec le spectacle Capharnaüm Caravane\nUn spectacle
  de rue pour tous :\nThéâtre de rue burlesque - Musiques et chants d'Eur
 ope de l'Est – Jonglerie\nQue se passe-t-il dans la caravane ? On dirait
  une cocotte minute en fin de cuisson. Les portes s’ouvrent\, vous y êt
 es !\nLumière tamisée\, ambiance poussiéreuse... Dans un univers aussi 
 étroit que loufoque\, quatre musiciens venus d’ailleurs vont tenter de 
 vous présenter leur répertoire musical. Vos pieds ainsi que le décor br
 inguebalant commencent à s’agiter au son des mélodies frénétiques et
  des rythmes soutenus de l’Europe de l’Est. Mais leur installation som
 maire et précaire résistera-t-elle aux nombreux aléas du direct ? Entre
  les maladresses de Luzloï\, les soucis techniques\, les jongleries de Yi
 rtĕ\, le décor qui s’effrite et les fourberies de Kĕvoy\, l’imposan
 te Ruzica parviendra-t-elle à maintenir le « concert » jusqu’au bout 
 ? ...\nLes thèmes traditionnels sont empruntés à la musique traditionne
 lle d’Europe de l’Est\, les compositions rappellent également son én
 ergie et sa convivialité. Il s’agit d’une musique populaire et énerg
 ique\, traditionnellement jouée pour les fêtes\, les mariages et autres 
 cérémonies. A la fois populaire et festive\, elle touche le public\, que
 l que soit son âge.\nLe spectacle sera précédé de contes.\nEntrée à 
 prix libre !!!\nDimanche 5 Juin 2016\nKermesse\nà partir de 14h à la sal
 le des fêtes de Bulhon(63)\n\nVenez avec nous partager un moment de déte
 nte autour de nombreux jeux et activités qui ravirons les petits comme le
 s grands!\n\nEn fin d'après midi  tirage au sort de la tombola!\nwww.boug
 erabulhon.weebly.com  \n
ATTACH;FMTTYPE=image/jpeg:https://variancefm.com/v2/wp-content/uploads/201
 6/04/redim-2.jpg
CATEGORIES:Cirque
LOCATION:bulhon\, les raymonds\, Bulhon\, 63350\, France
GEO:45.8892;3.3893920000000435
X-APPLE-STRUCTURED-LOCATION;VALUE=URI;X-ADDRESS=les raymonds\, Bulhon\, 633
 50\, France;X-APPLE-RADIUS=100;X-TITLE=bulhon:geo:45.8892,3.38939200000004
 35
END:VEVENT
END:VCALENDAR