BEGIN:VCALENDAR
VERSION:2.0
PRODID:-//wp-events-plugin.com//6.6.3//EN
BEGIN:VEVENT
UID:1090@variancefm.com
DTSTART;VALUE=DATE:20180701
DTEND;VALUE=DATE:20180702
DTSTAMP:20180622T192917Z
URL:https://variancefm.com/event/fete-patronale-la-renaudie/
SUMMARY:Fête Patronale - La Renaudie
DESCRIPTION:Le Comité des Fêtes de la Renaudie propose la fête patronale
  le 1er juillet. A 11h messe animée de la Saint-Pierre. Différentes anim
 ations gratuites toute la journée : spectacle de Bruno Fakir\, ambiance 
 écossaise avec Mac Lewis\, variétés avec Cat's. Buvette sur place. Repa
 s complet sous barnum à midi : 15€.     Venez Nombreux ! 
CATEGORIES:Fête
LOCATION:Le Bourg\, Le Bourg\, La Renaudie\, France
GEO:45.735337;3.719572800000037
X-APPLE-STRUCTURED-LOCATION;VALUE=URI;X-ADDRESS=Le Bourg\, La Renaudie\, Fr
 ance;X-APPLE-RADIUS=100;X-TITLE=Le Bourg:geo:45.735337,3.719572800000037
END:VEVENT
END:VCALENDAR