BEGIN:VCALENDAR
VERSION:2.0
PRODID:-//wp-events-plugin.com//6.6.3//EN
BEGIN:VEVENT
UID:1362@variancefm.com
DTSTART;VALUE=DATE:20230101
DTEND;VALUE=DATE:20240101
DTSTAMP:20221222T141419Z
URL:https://variancefm.com/event/groupe-de-parole-pour-aborder-le-deuil-du
 -conjoint/
SUMMARY:Groupe de parole pour aborder le deuil du conjoint
DESCRIPTION:
LOCATION:Espace Dilaogue &amp\; Solidarité\, 2 rue Pierre Boulanger\, Cler
 mont-Ferrand\, 63100\, France
X-APPLE-STRUCTURED-LOCATION;VALUE=URI;X-ADDRESS=2 rue Pierre Boulanger\, Cl
 ermont-Ferrand\, 63100\, France;X-APPLE-RADIUS=100;X-TITLE=Espace Dilaogue
  & Solidarité:geo:0,0
END:VEVENT
END:VCALENDAR