BEGIN:VCALENDAR
VERSION:2.0
PRODID:-//wp-events-plugin.com//6.6.3//EN
BEGIN:VEVENT
UID:188@variancefm.com
DTSTART;VALUE=DATE:20150411
DTEND;VALUE=DATE:20150412
DTSTAMP:20150405T204834Z
URL:https://variancefm.com/event/loto-11/
SUMMARY:Loto
DESCRIPTION:LOTO du foyer animation loisir\nle 11 avril 2015 à la maison d
 u peuple de Beauregard l'eveque\ncarte en vente sur place au tarif de 4 eu
 ros la carte ou 10 euros les 3\nTablette\, places au Puy de fou\, à Vulca
 nia\, au Volcan de Lemptégy\n1h en quad et nombreux autres lots de qualit
 é....
ATTACH;FMTTYPE=image/jpeg:https://variancefm.com/v2/wp-content/uploads/201
 4/10/loto.jpg
CATEGORIES:Loto
LOCATION:Maison du Peuple de Beauregard\, Beauregard l'évêque\, Beauregar
 d l'évêque\, Puy de Dôme\, 63116\, Auvergne\, France
GEO:45.7842883;3.3092128000000685
X-APPLE-STRUCTURED-LOCATION;VALUE=URI;X-ADDRESS=Beauregard l'évêque\, Bea
 uregard l'évêque\, Puy de Dôme\, 63116\, Auvergne\, France;X-APPLE-RADI
 US=100;X-TITLE=Maison du Peuple de Beauregard:geo:45.7842883,3.30921280000
 00685
END:VEVENT
END:VCALENDAR