BEGIN:VCALENDAR
VERSION:2.0
PRODID:-//wp-events-plugin.com//6.6.3//EN
BEGIN:VEVENT
UID:898@variancefm.com
DTSTART:20170225T170000Z
DTEND:20170225T210000Z
DTSTAMP:20170218T145938Z
URL:https://variancefm.com/event/loto-68/
SUMMARY:Loto
DESCRIPTION:L'Association du Clermont Foot 63 organise son Grand Loto le SA
 MEDI 25 FEVRIER 2017 a 19H au Stade Gabriel Montpied \, sous le chapiteau 
 VIP.\n\nA gagner :\n1 voyage et séjour de 6 jours pour 2 personnes en dem
 i pension a Menton ( 06) en hôtel 3 étoiles d'une valeur de 1030 euros.\
 nPossibilité d'excursions a Monaco\, Nice et sur la Riviera Italienne.\n\
 n2 diners - spectacles au Garden Palace\nMontre connectée Sony\n2 nuits /
  2 petits déjeuners en chambre d'hôtes en Périgord\nVTT\nTablette tacti
 le + casque + enceinte Bluetooth\nCamera Embarquée Hyundai\nAbonnement au
  CF63 pour la saison 2017/2018\nBons d'achats Leclerc d'une valeur de 100 
 euros\nDes bons repas\, Maillot CF63 \, Spectacles Garden Palace et bien d
 'autres lots a gagner\n\nTarifs :\n1carton 4€\n3 cartons 10€\n7 carton
 s 20€\n12 cartons 30€\n\nOuverture des portes a 18h\n\nPartie spécial
 e Femmes\nLes enveloppes surprises vous donneront une chance supplémentai
 re de ne pas repartir bredouille ..\n\nParking surveillé\nBuvette et rest
 auration sur place\n\nVenez nombreux\n\nStade Gabriel Montpied\, Rue Adrie
 n Mabrut 63000 Clermont Ferrand
ATTACH;FMTTYPE=image/jpeg:https://variancefm.com/v2/wp-content/uploads/201
 7/02/2ca03a3d5d09270be21b38c167e883ddb2d486c2.jpg
LOCATION:Stade Gabriel Montpied\, Stade Gabriel Montpied \, Clermont Ferran
 d\, France
GEO:45.8157927;3.1188435000000254
X-APPLE-STRUCTURED-LOCATION;VALUE=URI;X-ADDRESS=Stade Gabriel Montpied \, C
 lermont Ferrand\, France;X-APPLE-RADIUS=100;X-TITLE=Stade Gabriel Montpied
 :geo:45.8157927,3.1188435000000254
END:VEVENT
END:VCALENDAR