BEGIN:VCALENDAR
VERSION:2.0
PRODID:-//wp-events-plugin.com//6.6.3//EN
BEGIN:VEVENT
UID:1200@variancefm.com
DTSTART:20191116T180000Z
DTEND:20191117T020000Z
DTSTAMP:20191021T165540Z
URL:https://variancefm.com/event/soiree-annee-80/
SUMMARY:Soirée Année 80
DESCRIPTION:Venez retrouver tout les rythmes des années 80 et vous régale
 r avec un repas préparé et servi par un traiteur. pour un tarif de 20 eu
 ros.
ATTACH;FMTTYPE=image/jpeg:https://variancefm.com/v2/wp-content/uploads/201
 9/10/collageprintspah1452550691500-b136a5fa-7893-4d68-b5da-b4924a9d9d04.jp
 g
CATEGORIES:Bal
LOCATION:Salle des fêtes\, le bourg\, Charnat 63290\, 63290\, France
X-APPLE-STRUCTURED-LOCATION;VALUE=URI;X-ADDRESS=le bourg\, Charnat 63290\,
  63290\, France;X-APPLE-RADIUS=100;X-TITLE=Salle des fêtes:geo:0,0
END:VEVENT
END:VCALENDAR