BEGIN:VCALENDAR
VERSION:2.0
PRODID:-//wp-events-plugin.com//6.6.3//EN
BEGIN:VEVENT
UID:862@variancefm.com
DTSTART:20170107T160000Z
DTEND:20170107T210000Z
DTSTAMP:20170104T203005Z
URL:https://variancefm.com/event/soiree-degustation-dhuitres-2/
SUMMARY:soirée dégustation d’huitres
DESCRIPTION:Le samedi 07 janvier 2017 à partir de 18 heures\, la section b
 asket de PROPATRIA organise une soirée dégustation d’huitres\, dans la
  salle JUPITER sise  impasse du stade  à MARINGUES à l’occasion d’un
  tournoi amical de basket.
ATTACH;FMTTYPE=image/jpeg:https://variancefm.com/v2/wp-content/uploads/201
 7/01/logo-pro-patria.jpg
LOCATION:Salle Jupiter de Maringues\, Salle Jupiter\, Maringues\, France
GEO:45.921308;3.328281000000061
X-APPLE-STRUCTURED-LOCATION;VALUE=URI;X-ADDRESS=Salle Jupiter\, Maringues\,
  France;X-APPLE-RADIUS=100;X-TITLE=Salle Jupiter de Maringues:geo:45.92130
 8,3.328281000000061
END:VEVENT
END:VCALENDAR