BEGIN:VCALENDAR
VERSION:2.0
PRODID:-//wp-events-plugin.com//6.6.3//EN
BEGIN:VEVENT
UID:1558@variancefm.com
DTSTART:20260523T160000Z
DTEND:20260523T220000Z
DTSTAMP:20260423T090502Z
URL:https://variancefm.com/event/soiree-halle-en-fete/
SUMMARY:Soirée Halle En Fête
DESCRIPTION:Le Comité des Fêtes d'Ennezat vous propose cette année une v
 ersion revisitée de la Fête des Céréales en organisant cette fête en 
 soirée avec un nouveau nom "Soirée Halle En Fête" samedi 23 mai 2026 so
 us la Halle d'ENNEZAT\, La fête de plein Air commencera dès 17h00 avec a
 nimations GRATUITES Orchestre "Duo Caputchino" \, structure gonflable\, co
 ncours fléchettes\, apéro musical. En soirée sera servi un repas barbec
 ue sur réservation via le site https://www.helloasso.com/associations/com
 ite-des-fetes-ennezat/evenements/soiree-halle-en-fete\, contact 0608851015
 \, au menu Salade composée\, Brochettes\, Frites\, Cookies. Ambiance assu
 rée
ATTACH;FMTTYPE=image/jpeg:https://variancefm.com/v2/wp-content/uploads/202
 6/04/23-mai-2026.jpg
CATEGORIES:Fête,Soirée dansante
LOCATION:Halle d'Ennezat\, place Etienne Clémentel\, ENNEZAT\, 63\, 63720\
 , France
X-APPLE-STRUCTURED-LOCATION;VALUE=URI;X-ADDRESS=place Etienne Clémentel\, 
 ENNEZAT\, 63\, 63720\, France;X-APPLE-RADIUS=100;X-TITLE=Halle d'Ennezat:g
 eo:0,0
END:VEVENT
END:VCALENDAR