BEGIN:VCALENDAR
VERSION:2.0
PRODID:-//wp-events-plugin.com//6.6.3//EN
BEGIN:VEVENT
UID:1338@variancefm.com
DTSTART;TZID=Europe/Paris:20221113T000000
DTEND;TZID=Europe/Paris:20221113T143000
DTSTAMP:20221013T091710Z
URL:https://variancefm.com/event/the-dansant-22/
SUMMARY:Thé dansant
DESCRIPTION:Thé dansant \ndimanche 13 novembre 2022 \nVichy salle des fêt
 es \nde 14h 30 à 19h 30 \norganisé par le comité de quartier Vichy Coeu
 r De Ville\nanimé par l'orchestre Jean Michel Blanch\nrenseignements 06 7
 5 83 93 20\nentrée 10€
CATEGORIES:Thé dansant
LOCATION:Salle des fêtes\, Place Charles de Gaulle\, Vichy\, 03200\, Franc
 e
X-APPLE-STRUCTURED-LOCATION;VALUE=URI;X-ADDRESS=Place Charles de Gaulle\, V
 ichy\, 03200\, France;X-APPLE-RADIUS=100;X-TITLE=Salle des fêtes:geo:0,0
END:VEVENT
BEGIN:VTIMEZONE
TZID:Europe/Paris
X-LIC-LOCATION:Europe/Paris
BEGIN:STANDARD
DTSTART:20221030T020000
TZOFFSETFROM:+0200
TZOFFSETTO:+0100
TZNAME:CET
END:STANDARD
END:VTIMEZONE
END:VCALENDAR