BEGIN:VCALENDAR
VERSION:2.0
PRODID:-//wp-events-plugin.com//6.6.3//EN
BEGIN:VEVENT
UID:864@variancefm.com
DTSTART:20170114T160000Z
DTEND:20170114T160000Z
DTSTAMP:20170106T094256Z
URL:https://variancefm.com/event/volley-vbc-chamaliereslyon-saint-fons-con
 certs-les-bombes-humaines-et-flying-tractors/
SUMMARY:Volley: VBC Chamalières/Lyon Saint-Fons + Concerts Les Bombes Huma
 ines et Flying Tractors
DESCRIPTION:- Match derby ELITE Chamalières x Lyon St. Fons\n- Concert des
  Bombes Humaines\n- Concert des Flying Tractors\n- animations de nos parte
 naires Crédit Mutuel et VVF Villages\n- château gonflable\n- buvette bie
 n garnie\n\nRéservation en ligne: https://www.billetweb.fr/vbcc-st-fons-
 soiree-solidarite-vbcc\n\n
ATTACH;FMTTYPE=image/jpeg:https://variancefm.com/v2/wp-content/uploads/201
 7/01/affiche-lyon-web.jpg
CATEGORIES:Sport
LOCATION:Maison des Sports\, Place des Bughes\, Clermont-Ferrand\, Puy de D
 ôme\, 63000\, Auvergne\, France
GEO:45.7853469;3.086147100000062
X-APPLE-STRUCTURED-LOCATION;VALUE=URI;X-ADDRESS=Place des Bughes\, Clermont
 -Ferrand\, Puy de Dôme\, 63000\, Auvergne\, France;X-APPLE-RADIUS=100;X-T
 ITLE=Maison des Sports:geo:45.7853469,3.086147100000062
END:VEVENT
END:VCALENDAR